BEGIN:VCALENDAR
VERSION:2.0
PRODID:icalendar-ruby
CALSCALE:GREGORIAN
BEGIN:VTIMEZONE
TZID:America/Chicago
BEGIN:DAYLIGHT
DTSTART:20260308T030000
TZOFFSETFROM:-0600
TZOFFSETTO:-0500
RRULE:FREQ=YEARLY;BYDAY=2SU;BYMONTH=3
TZNAME:CDT
END:DAYLIGHT
BEGIN:STANDARD
DTSTART:20261101T010000
TZOFFSETFROM:-0500
TZOFFSETTO:-0600
RRULE:FREQ=YEARLY;BYDAY=1SU;BYMONTH=11
TZNAME:CST
END:STANDARD
END:VTIMEZONE
BEGIN:VEVENT
DTSTAMP:20260422T103916Z
UID:https://capitalcity.helpfulvillage.com/events/1934
DTSTART;TZID=America/Chicago:20260427T110000
DTEND;TZID=America/Chicago:20260427T120000
CLASS:PRIVATE
CREATED:20260420T110455
DESCRIPTION:
LAST-MODIFIED:20260420T120821
LOCATION:Harry Ransom Center\, 300  West 21st Street\, Austin\, TX 
SUMMARY:Village event: Lives & Literacy in Ancient Egypt Accessible Tour fo
 r Vision & Hearing Impaired
URL;VALUE=URI:https://capitalcity.helpfulvillage.com/events/1934
END:VEVENT
END:VCALENDAR
