BEGIN:VCALENDAR
VERSION:2.0
PRODID:icalendar-ruby
CALSCALE:GREGORIAN
BEGIN:VTIMEZONE
TZID:America/Chicago
BEGIN:DAYLIGHT
DTSTART:20260308T030000
TZOFFSETFROM:-0600
TZOFFSETTO:-0500
RRULE:FREQ=YEARLY;BYDAY=2SU;BYMONTH=3
TZNAME:CDT
END:DAYLIGHT
BEGIN:STANDARD
DTSTART:20261101T010000
TZOFFSETFROM:-0500
TZOFFSETTO:-0600
RRULE:FREQ=YEARLY;BYDAY=1SU;BYMONTH=11
TZNAME:CST
END:STANDARD
END:VTIMEZONE
BEGIN:VEVENT
DTSTAMP:20260422T105848Z
UID:https://capitalcity.helpfulvillage.com/events/1932
DTSTART;TZID=America/Chicago:20260502T140000
DTEND;TZID=America/Chicago:20260502T153000
CLASS:PRIVATE
CREATED:20260420T093508
DESCRIPTION:
LAST-MODIFIED:20260420T105240
LOCATION:St. Matthew's Episcopal Church\, 8134 Mesa Drive\, Austin\, TX 787
 59
SUMMARY:Village event: Love Notes Chorus Concert
URL;VALUE=URI:https://capitalcity.helpfulvillage.com/events/1932
END:VEVENT
END:VCALENDAR
